BEGIN:VCALENDAR
VERSION:2.0
PRODID:-//Tukios.com/
BEGIN:VEVENT
UID:0c754cf0-50ae-4e8f-8add-c43c951ed6e4@www.hhlohmeyer.com
DTSTAMP:20260424T210723Z
DTSTART:20260428T220000Z
DTEND:20260429T000000Z
SUMMARY:Memorial Visitation
DESCRIPTION:
URL:https://www.hhlohmeyer.com/obituaries/thomas-morton
LOCATION:St. Agnes Roman Catholic Cathedral 533 South Jefferson Avenue  
	Springfield MO 65806
GEO:37.2041215;-93.290259
END:VEVENT
END:VCALENDAR