BEGIN:VCALENDAR
VERSION:2.0
PRODID:-//Tukios.com/
BEGIN:VEVENT
UID:f492e842-624d-4227-8a72-fc15d380081a@www.hhlohmeyer.com
DTSTAMP:20260424T210428Z
DTSTART:20260429T150000Z
DTEND:20260429T160000Z
SUMMARY:Memorial Mass
DESCRIPTION:
URL:https://www.hhlohmeyer.com/obituaries/thomas-morton
LOCATION:St. Agnes Roman Catholic Cathedral 533 South Jefferson Avenue  
	Springfield MO 65806
GEO:37.2041215;-93.290259
END:VEVENT
END:VCALENDAR