BEGIN:VCALENDAR
VERSION:2.0
PRODID:-//Tukios.com/
BEGIN:VEVENT
UID:66b2381b-0b8b-4fec-baff-f2353f1c0294@www.hhlohmeyer.com
DTSTAMP:20260423T180221Z
DTSTART:20260424T203000Z
DTEND:20260424T213000Z
SUMMARY:Memorial Service
DESCRIPTION:
URL:https://www.hhlohmeyer.com/obituaries/jason-singleton
LOCATION:Copper Rock Village 712 Copper Rock Dr  Rogersville MO 65742
GEO:37.1013545;-93.0631854
END:VEVENT
END:VCALENDAR