BEGIN:VCALENDAR
VERSION:2.0
PRODID:-//Tukios.com/
BEGIN:VEVENT
UID:4f67cbe8-244c-4e86-bac5-bbdfb44377b9@www.hhlohmeyer.com
DTSTAMP:20260420T212949Z
DTSTART:20260422T160000Z
DTEND:20260422T170000Z
SUMMARY:Graveside Service
DESCRIPTION:
URL:https://www.hhlohmeyer.com/obituaries/candace-pearson
LOCATION:Greenlawn Memorial Gardens 3599 North National Avenue  
	Springfield MO 65803
GEO:37.2627395;-93.2748975
END:VEVENT
END:VCALENDAR